BEGIN:VCALENDAR
VERSION:2.0
X-WR-CALNAME: Luna y Media
PRODID:GIGPRESS 2.0 WORDPRESS PLUGIN
CALSCALE:GREGORIAN
X-WR-TIMEZONE:Etc/GMT
METHOD:PUBLISH
BEGIN:VTIMEZONE
TZID:GMT
BEGIN:STANDARD
DTSTART:20071028T010000
TZOFFSETTO:+0000
TZOFFSETFROM:+0000
END:STANDARD
END:VTIMEZONE
BEGIN:VEVENT
SUMMARY:להקת הפלמנקו הישראלית ב- היכל התרבות אור עקיבא
DESCRIPTION:שם המופע: Luna y Media. All Ages
LOCATION:היכל התרבות אור עקיבא\, אור עקיבא\, IL
UID:20211118T183000Z-463-dan@dmdesign.co.il
URL:https://www.flamenco.co.il
DTSTART;VALUE=DATE-TIME;TZID=GMT:20211118T183000Z
DTEND;VALUE=DATE-TIME;TZID=GMT:20211118T183000Z
DTSTAMP:20210929T114749Z
END:VEVENT
BEGIN:VEVENT
SUMMARY:COMPAS Dance Company ב- Heichal Hatarbut Or Akiva
DESCRIPTION:שם המופע: Luna y Media. All Ages
LOCATION:Heichal Hatarbut Or Akiva\, Or Akiva\, IL
UID:20211118T183000Z-464-dan@dmdesign.co.il
URL:https://www.flamenco.co.il
DTSTART;VALUE=DATE-TIME;TZID=GMT:20211118T183000Z
DTEND;VALUE=DATE-TIME;TZID=GMT:20211118T183000Z
DTSTAMP:20210929T114749Z
END:VEVENT
BEGIN:VEVENT
SUMMARY:להקת הפלמנקו הישראלית ב- מרכז סוזן דלל
DESCRIPTION:שם המופע: Luna y Media. 
LOCATION:מרכז סוזן דלל\, יחיאלי 5\, נווה צדק\, תל אביב\, IL
UID:20211119T120000Z-477-dan@dmdesign.co.il
URL:https://www.flamenco.co.il
DTSTART;VALUE=DATE-TIME;TZID=GMT:20211119T120000Z
DTEND;VALUE=DATE-TIME;TZID=GMT:20211119T120000Z
DTSTAMP:20210929T114749Z
END:VEVENT
BEGIN:VEVENT
SUMMARY:COMPAS Dance Company ב- SUZANNE DELLAL CENTER
DESCRIPTION:שם המופע: Luna y Media. 
LOCATION:SUZANNE DELLAL CENTER\, YAHIELY ST 5\, TEL AVIV\, IL
UID:20211119T120000Z-478-dan@dmdesign.co.il
URL:https://www.flamenco.co.il
DTSTART;VALUE=DATE-TIME;TZID=GMT:20211119T120000Z
DTEND;VALUE=DATE-TIME;TZID=GMT:20211119T120000Z
DTSTAMP:20210929T114749Z
END:VEVENT
BEGIN:VEVENT
SUMMARY:להקת הפלמנקו הישראלית ב- היכל התרבות גבעת שמואל
DESCRIPTION:שם המופע: Luna y Media. 
LOCATION:היכל התרבות גבעת שמואל\, גבעת שמואל\, IL
UID:20211222T183000Z-479-dan@dmdesign.co.il
URL:https://www.flamenco.co.il
DTSTART;VALUE=DATE-TIME;TZID=GMT:20211222T183000Z
DTEND;VALUE=DATE-TIME;TZID=GMT:20211222T183000Z
DTSTAMP:20210929T114749Z
END:VEVENT
BEGIN:VEVENT
SUMMARY:COMPAS Dance Company ב- GIVAAT SHMUEL
DESCRIPTION:שם המופע: Luna y Media. 
LOCATION:GIVAAT SHMUEL\, Giva'at Shmuel\, IL
UID:20211222T183000Z-480-dan@dmdesign.co.il
URL:https://www.flamenco.co.il
DTSTART;VALUE=DATE-TIME;TZID=GMT:20211222T183000Z
DTEND;VALUE=DATE-TIME;TZID=GMT:20211222T183000Z
DTSTAMP:20210929T114749Z
END:VEVENT
END:VCALENDAR