BEGIN:VCALENDAR
VERSION:2.0
PRODID:GIGPRESS 2.0 WORDPRESS PLUGIN
CALSCALE:GREGORIAN
X-WR-TIMEZONE:Etc/GMT
METHOD:PUBLISH
BEGIN:VTIMEZONE
TZID:GMT
BEGIN:STANDARD
DTSTART:20071028T010000
TZOFFSETTO:+0000
TZOFFSETFROM:+0000
END:STANDARD
END:VTIMEZONE
BEGIN:VEVENT
SUMMARY:COMPAS Dance Company ב- Heichal Hatarbut Oranit
DESCRIPTION:שם המופע: Puss in Magic Boots. 
LOCATION:Heichal Hatarbut Oranit\, Oranit\, IL
UID:20220524T143000Z-502-dan@dmdesign.co.il
URL:https://www.flamenco.co.il
DTSTART;VALUE=DATE-TIME;TZID=GMT:20220524T143000Z
DTEND;VALUE=DATE-TIME;TZID=GMT:20220524T143000Z
DTSTAMP:20210929T114724Z
END:VEVENT
END:VCALENDAR