BEGIN:VCALENDAR
VERSION:2.0
PRODID:GIGPRESS 2.0 WORDPRESS PLUGIN
CALSCALE:GREGORIAN
X-WR-TIMEZONE:Etc/GMT
METHOD:PUBLISH
BEGIN:VTIMEZONE
TZID:GMT
BEGIN:STANDARD
DTSTART:20071028T010000
TZOFFSETTO:+0000
TZOFFSETFROM:+0000
END:STANDARD
END:VTIMEZONE
BEGIN:VEVENT
SUMMARY:COMPAS Dance Company ב- Heichal Hatarbut Pisgat Zeev
DESCRIPTION:שם המופע: The Hunchback of Notre Dame. 
LOCATION:Heichal Hatarbut Pisgat Zeev\, Jerusalem\, IL
UID:20220222T153000Z-500-dan@dmdesign.co.il
URL:https://www.flamenco.co.il
DTSTART;VALUE=DATE-TIME;TZID=GMT:20220222T153000Z
DTEND;VALUE=DATE-TIME;TZID=GMT:20220222T153000Z
DTSTAMP:20210929T114707Z
END:VEVENT
END:VCALENDAR