BEGIN:VCALENDAR
VERSION:2.0
PRODID:GIGPRESS 2.0 WORDPRESS PLUGIN
CALSCALE:GREGORIAN
X-WR-TIMEZONE:Etc/GMT
METHOD:PUBLISH
BEGIN:VTIMEZONE
TZID:GMT
BEGIN:STANDARD
DTSTART:20071028T010000
TZOFFSETTO:+0000
TZOFFSETFROM:+0000
END:STANDARD
END:VTIMEZONE
BEGIN:VEVENT
SUMMARY:COMPAS Dance Company ב- TZAVTA
DESCRIPTION:שם המופע: Guitar Festival. 
LOCATION:TZAVTA\, אבן גבירול 30\, תל אביב\, IL
UID:20211115T190000Z-489-dan@dmdesign.co.il
URL:https://www.flamenco.co.il
DTSTART;VALUE=DATE-TIME;TZID=GMT:20211115T190000Z
DTEND;VALUE=DATE-TIME;TZID=GMT:20211115T190000Z
DTSTAMP:20210929T114649Z
END:VEVENT
END:VCALENDAR