BEGIN:VCALENDAR
VERSION:2.0
PRODID:GIGPRESS 2.0 WORDPRESS PLUGIN
CALSCALE:GREGORIAN
X-WR-TIMEZONE:Etc/GMT
METHOD:PUBLISH
BEGIN:VTIMEZONE
TZID:GMT
BEGIN:STANDARD
DTSTART:20071028T010000
TZOFFSETTO:+0000
TZOFFSETFROM:+0000
END:STANDARD
END:VTIMEZONE
BEGIN:VEVENT
SUMMARY:COMPAS Dance Company ב- SUZANNE DELLAL CENTER
DESCRIPTION:שם המופע: Flamencollage. 
LOCATION:SUZANNE DELLAL CENTER\, YAHIELY ST 5\, TEL AVIV\, IL
UID:20211030T180000Z-487-dan@dmdesign.co.il
URL:https://www.flamenco.co.il
DTSTART;VALUE=DATE-TIME;TZID=GMT:20211030T180000Z
DTEND;VALUE=DATE-TIME;TZID=GMT:20211030T180000Z
DTSTAMP:20210929T114644Z
END:VEVENT
END:VCALENDAR