BEGIN:VCALENDAR
VERSION:2.0
PRODID:GIGPRESS 2.0 WORDPRESS PLUGIN
CALSCALE:GREGORIAN
X-WR-TIMEZONE:Etc/GMT
METHOD:PUBLISH
BEGIN:VTIMEZONE
TZID:GMT
BEGIN:STANDARD
DTSTART:20071028T010000
TZOFFSETTO:+0000
TZOFFSETFROM:+0000
END:STANDARD
END:VTIMEZONE
BEGIN:VEVENT
SUMMARY:COMPAS Dance Company ב- Heichal Hatarbut Modiin
DESCRIPTION:שם המופע: The Hunchback of Notre Dame. 
LOCATION:Heichal Hatarbut Modiin\, Mpdiin\, IL
UID:20211004T143000Z-482-dan@dmdesign.co.il
URL:https://www.flamenco.co.il/compas-dance-company-in-mpdiin-on-te/
DTSTART;VALUE=DATE-TIME;TZID=GMT:20211004T143000Z
DTEND;VALUE=DATE-TIME;TZID=GMT:20211004T143000Z
DTSTAMP:20210929T114441Z
END:VEVENT
END:VCALENDAR