BEGIN:VCALENDAR
VERSION:2.0
PRODID:GIGPRESS 2.0 WORDPRESS PLUGIN
CALSCALE:GREGORIAN
X-WR-TIMEZONE:Etc/GMT
METHOD:PUBLISH
BEGIN:VTIMEZONE
TZID:GMT
BEGIN:STANDARD
DTSTART:20071028T010000
TZOFFSETTO:+0000
TZOFFSETFROM:+0000
END:STANDARD
END:VTIMEZONE
BEGIN:VEVENT
SUMMARY:להקת הפלמנקו הישראלית ב- היכל התרבות אור עקיבא
DESCRIPTION:שם המופע: Luna y Media. All Ages
LOCATION:היכל התרבות אור עקיבא\, אור עקיבא\, IL
UID:20211118T183000Z-463-dan@dmdesign.co.il
URL:https://www.flamenco.co.il
DTSTART;VALUE=DATE-TIME;TZID=GMT:20211118T183000Z
DTEND;VALUE=DATE-TIME;TZID=GMT:20211118T183000Z
DTSTAMP:20210929T114447Z
END:VEVENT
END:VCALENDAR